BEGIN:VCALENDAR
VERSION:2.0
PRODID:-//www.thechc.org//NONSGML kigkonsult.se iCalcreator 2.30.10//
CALSCALE:GREGORIAN
METHOD:PUBLISH
UID:924c0025-3edf-465a-a6f0-b9429022dc79
X-WR-CALDESC:Center for Humanistic Change\, Inc. is excited to our Systemat
 ic Training for Effective Parenting Program.  \n\n•	Understanding Yourself 
 and Your Child\n•	Understanding Beliefs and Feelings\n•	Encouraging Your Chi
 ld and Yourself\n•	Listening and Talking to your Child \n•	Helping Children 
 Learn to Cooperate \n•	Discipline that Makes Sense\n•	Choosing Your Approach
 \n\n\n<b>\n<b>Date: <b></b>Thursdays\, November 7\, 14\, 21 and December 5
 \, 12\, 19 and 26\n<b>Time: <b></b>5:30 PM - 7:30 PM \n<b>Where: <b></b>Oa
 sis Community Center\, 3410 Bath Pike\, Bethlehem\, PA 18017\n</b>\n</b></
 b></b>
X-WR-RELCALID:cb34d201ab5387ed9ee1318906b5d49e
X-WR-TIMEZONE:America/New_York
BEGIN:VTIMEZONE
TZID:America/New_York
BEGIN:STANDARD
TZNAME:EST
DTSTART:20191103T020000
TZOFFSETFROM:-0400
TZOFFSETTO:-0500
RDATE:20201101T020000
END:STANDARD
BEGIN:DAYLIGHT
TZNAME:EDT
DTSTART:20190310T020000
TZOFFSETFROM:-0500
TZOFFSETTO:-0400
RDATE:20200308T020000
RDATE:20210314T020000
END:DAYLIGHT
END:VTIMEZONE
BEGIN:VEVENT
UID:147d2e8f-644b-40d3-81ee-3bfe02870dbe
DTSTAMP:20260420T095303Z
DESCRIPTION:Center for Humanistic Change\, Inc. is excited to our Systemati
 c Training for Effective Parenting Program.  \n\n•	Understanding Yourself a
 nd Your Child\n•	Understanding Beliefs and Feelings\n•	Encouraging Your Chil
 d and Yourself\n•	Listening and Talking to your Child \n•	Helping Children L
 earn to Cooperate \n•	Discipline that Makes Sense\n•	Choosing Your Approach
 \n\n\n<b>\n<b>Date: <b></b>Thursdays\, November 7\, 14\, 21 and December 5
 \, 12\, 19 and 26\n<b>Time: <b></b>5:30 PM - 7:30 PM \n<b>Where: <b></b>Oa
 sis Community Center\, 3410 Bath Pike\, Bethlehem\, PA 18017\n</b>\n</b></
 b></b>
DTSTART;TZID=America/New_York:20200130T173000
DTEND;TZID=America/New_York:20200130T193000
LOCATION:Oasis Community Center\, 3410 Bath Pike\, Bethlehem\, PA 18017
SUMMARY:Systematic Training for Effective Parenting Program
END:VEVENT
END:VCALENDAR
