BEGIN:VCALENDAR
VERSION:2.0
PRODID:-//www.thechc.org//NONSGML kigkonsult.se iCalcreator 2.30.10//
CALSCALE:GREGORIAN
METHOD:PUBLISH
UID:cfa5567d-de15-4867-8f9f-bcd86946ffea
X-WR-CALDESC:\n<b>The Law and Trauma-Informed Practices</b>- an event for S
 AP professionals\n\n<b>When: </b>Thursday April 16\,2020<b>\nWhere: </b>Le
 high Valley Academy Regional Charter School<b>\n1560 Valley Center Parkway
 \, Bethlehem\, PA  18017\nTime: </b>3:30 PM - 6:00 \n\nSeating is limited 
 to 35 people\, first come first serve.\n\n<b>Cost:</b> Registration is req
 uired\, but there is no charge for the session. Materials and light meal w
 ill be provided.\n\nCenter for Humanistic Change is excited to host the 20
 20 SAP Consortium. Erin Gilsbach\, Esquire is the Executive Director and F
 ounder of EdLaw Interactive. She has vast experience in the field of educa
 tion\, from teaching public high school\, then serving in the legal office
  of the PA Department of Education and later\, representing public\, priva
 te and charter school clients for over a decade.\n\n•	** Two and a half (2.
 5) Act 48 hours will be given to those from school districts that pre-appr
 oved this event.  Pick up your certificate at the end of the event before 
 leaving.**\n\n<b>The information you enter during the registration process
  will be used to contact you\, should there be any changes to this event. 
 </b>\n
X-WR-RELCALID:d67da87d558de1cda91211e3875993da
X-WR-TIMEZONE:America/New_York
BEGIN:VTIMEZONE
TZID:America/New_York
BEGIN:STANDARD
TZNAME:EST
DTSTART:20191103T020000
TZOFFSETFROM:-0400
TZOFFSETTO:-0500
RDATE:20201101T020000
END:STANDARD
BEGIN:DAYLIGHT
TZNAME:EDT
DTSTART:20200308T020000
TZOFFSETFROM:-0500
TZOFFSETTO:-0400
RDATE:20210314T020000
END:DAYLIGHT
END:VTIMEZONE
BEGIN:VEVENT
UID:f4f78fa7-1f8e-4803-92f8-bd6494050b83
DTSTAMP:20260422T000801Z
DESCRIPTION:\n<b>The Law and Trauma-Informed Practices</b>- an event for SA
 P professionals\n\n<b>When: </b>Thursday April 16\,2020<b>\nWhere: </b>Leh
 igh Valley Academy Regional Charter School<b>\n1560 Valley Center Parkway\
 , Bethlehem\, PA  18017\nTime: </b>3:30 PM - 6:00 \n\nSeating is limited t
 o 35 people\, first come first serve.\n\n<b>Cost:</b> Registration is requ
 ired\, but there is no charge for the session. Materials and light meal wi
 ll be provided.\n\nCenter for Humanistic Change is excited to host the 202
 0 SAP Consortium. Erin Gilsbach\, Esquire is the Executive Director and Fo
 under of EdLaw Interactive. She has vast experience in the field of educat
 ion\, from teaching public high school\, then serving in the legal office 
 of the PA Department of Education and later\, representing public\, privat
 e and charter school clients for over a decade.\n\n•	** Two and a half (2.5
 ) Act 48 hours will be given to those from school districts that pre-appro
 ved this event.  Pick up your certificate at the end of the event before l
 eaving.**\n\n<b>The information you enter during the registration process 
 will be used to contact you\, should there be any changes to this event. <
 /b>\n
DTSTART;TZID=America/New_York:20200416T153000
DTEND;TZID=America/New_York:20200416T180000
LOCATION:Center for Humanistic Change
SUMMARY:CANCELLED-Northampton County After School SAP Consortium
END:VEVENT
END:VCALENDAR
