BEGIN:VCALENDAR
VERSION:2.0
PRODID:-//www.thechc.org//NONSGML kigkonsult.se iCalcreator 2.30.10//
CALSCALE:GREGORIAN
METHOD:PUBLISH
UID:171c64ef-fedd-40e5-9e31-74f0ac00e18e
X-WR-CALDESC:The Vaping Epidemic (Grades 9-12 & Adult)\n\nWhile tobacco use
  has declined\, vaping has become a major health concern among teens and y
 oung adults. Despite recent changes to PA law regarding vaping products\, 
 many young people continue to use nicotine delivery devices. From 2017 to 
 2018\, there was a 48% increase in the use of e-cigs among middle school y
 outh\, and a 78% increase among high school students. Participants in this
  program will learn about the science behind treating addiction as a brain
  disease\; why the adolescent brain is more susceptible to the effects of 
 drugs like nicotine\; dangers associated with vaping THC\; and how to acce
 ss local resources.\n
X-WR-RELCALID:c6eb7061a544f01133835ef03106ff12
X-WR-TIMEZONE:America/New_York
BEGIN:VTIMEZONE
TZID:America/New_York
BEGIN:STANDARD
TZNAME:EST
DTSTART:20191103T020000
TZOFFSETFROM:-0400
TZOFFSETTO:-0500
RDATE:20201101T020000
RDATE:20211107T020000
END:STANDARD
BEGIN:DAYLIGHT
TZNAME:EDT
DTSTART:20200308T020000
TZOFFSETFROM:-0500
TZOFFSETTO:-0400
RDATE:20210314T020000
END:DAYLIGHT
END:VTIMEZONE
BEGIN:VEVENT
UID:ae4ba02d-368e-4946-bd8d-e617d5874a45
DTSTAMP:20260419T191338Z
DESCRIPTION:The Vaping Epidemic (Grades 9-12 & Adult)\n\nWhile tobacco use 
 has declined\, vaping has become a major health concern among teens and yo
 ung adults. Despite recent changes to PA law regarding vaping products\, m
 any young people continue to use nicotine delivery devices. From 2017 to 2
 018\, there was a 48% increase in the use of e-cigs among middle school yo
 uth\, and a 78% increase among high school students. Participants in this 
 program will learn about the science behind treating addiction as a brain 
 disease\; why the adolescent brain is more susceptible to the effects of d
 rugs like nicotine\; dangers associated with vaping THC\; and how to acces
 s local resources.\n
DTSTART;TZID=America/New_York:20200526T120000
DTEND;TZID=America/New_York:20200526T130000
LOCATION:Zoom Meeting
SUMMARY:Vaping (9-12)
END:VEVENT
END:VCALENDAR
