BEGIN:VCALENDAR
VERSION:2.0
PRODID:-//www.thechc.org//NONSGML kigkonsult.se iCalcreator 2.30.10//
CALSCALE:GREGORIAN
METHOD:PUBLISH
UID:295af938-0e1e-4f8f-8cb7-a7e1216ebe85
X-WR-CALDESC:Managing Emotions: Techniques and Resources to Use During Cris
 is Situations\n\nThe times we are currently living in can create stress\, 
 anxiety and depression\, and if not managed with healthy strategies can le
 ad to drug and alcohol use. This presentation will offer insight into the 
 emotions of dealing with crisis\, tools for managing the weight of the inf
 ormation that abounds\, and some methods for managing stress.\n
X-WR-RELCALID:dfe9e1f96258e647a0cd952c9c8e1d5d
X-WR-TIMEZONE:America/New_York
BEGIN:VTIMEZONE
TZID:America/New_York
BEGIN:STANDARD
TZNAME:EST
DTSTART:20191103T020000
TZOFFSETFROM:-0400
TZOFFSETTO:-0500
RDATE:20201101T020000
RDATE:20211107T020000
END:STANDARD
BEGIN:DAYLIGHT
TZNAME:EDT
DTSTART:20200308T020000
TZOFFSETFROM:-0500
TZOFFSETTO:-0400
RDATE:20210314T020000
RDATE:20220313T020000
END:DAYLIGHT
END:VTIMEZONE
BEGIN:VEVENT
UID:e0a5151e-44a2-4ce7-8ace-d44cec7c7fc6
DTSTAMP:20260421T135808Z
DESCRIPTION:Managing Emotions: Techniques and Resources to Use During Crisi
 s Situations\n\nThe times we are currently living in can create stress\, a
 nxiety and depression\, and if not managed with healthy strategies can lea
 d to drug and alcohol use. This presentation will offer insight into the e
 motions of dealing with crisis\, tools for managing the weight of the info
 rmation that abounds\, and some methods for managing stress.\n
DTSTART;TZID=America/New_York:20200916T120000
DTEND;TZID=America/New_York:20200916T130000
LOCATION:
SUMMARY:Managing Emotions Adult
END:VEVENT
END:VCALENDAR
