BEGIN:VCALENDAR
VERSION:2.0
PRODID:-//www.thechc.org//NONSGML kigkonsult.se iCalcreator 2.30.10//
CALSCALE:GREGORIAN
METHOD:PUBLISH
UID:c827d381-e2a4-4487-b3c7-7237beefe6b2
X-WR-CALDESC:Anyone Can Make the Difference \nA Training for Communities of
  Faith Leaders\n\nThis 90-minute training\, designed to educate faith-base
 d leaders about substance misuse\, as well as\ntreatment and recovery opti
 ons in the Lehigh Valley\, will equip Communities of Faith with relevant\n
 and accurate information so that they can provide much-needed support to t
 heir members. \n
X-WR-RELCALID:9fe055f6fe3e1739110cd0acce90a681
X-WR-TIMEZONE:America/New_York
BEGIN:VTIMEZONE
TZID:America/New_York
BEGIN:STANDARD
TZNAME:EST
DTSTART:20201101T020000
TZOFFSETFROM:-0400
TZOFFSETTO:-0500
RDATE:20211107T020000
END:STANDARD
BEGIN:DAYLIGHT
TZNAME:EDT
DTSTART:20200308T020000
TZOFFSETFROM:-0500
TZOFFSETTO:-0400
RDATE:20210314T020000
RDATE:20220313T020000
END:DAYLIGHT
END:VTIMEZONE
BEGIN:VEVENT
UID:4658f375-00cc-4fb0-a750-bc0884190cf3
DTSTAMP:20260420T015006Z
DESCRIPTION:Anyone Can Make the Difference \nA Training for Communities of 
 Faith Leaders\n\nThis 90-minute training\, designed to educate faith-based
  leaders about substance misuse\, as well as\ntreatment and recovery optio
 ns in the Lehigh Valley\, will equip Communities of Faith with relevant\na
 nd accurate information so that they can provide much-needed support to th
 eir members. \n
DTSTART;TZID=America/New_York:20201105T183000
DTEND;TZID=America/New_York:20201105T200000
LOCATION:Zoom Meeting\, link to follow
SUMMARY:Anyone Can Make the Difference (Welcoming Communities of Faith Lead
 ers)
END:VEVENT
END:VCALENDAR
