BEGIN:VCALENDAR
VERSION:2.0
PRODID:-//www.thechc.org//NONSGML kigkonsult.se iCalcreator 2.30.10//
CALSCALE:GREGORIAN
METHOD:PUBLISH
UID:d14a13c5-27cf-4368-bcec-bdaaba445899
X-WR-CALDESC:STEP: Systematic Training for Effective Parenting - presented 
 in Spanish\n\nThis program is an interactive practical approach to parenti
 ng and handling challenging behaviors. The program provides skills trainin
 g for parents of children from 6 through 12 years of age. Using the STEP m
 ultimedia kit our staff teaches lessons to parents on how to understand ch
 ild behavior and misbehavior\, practice positive listening\, give encourag
 ement (rather than praise)\, explore alternative parenting behaviors and e
 xpress ideas and feelings\, develop their child's responsibilities\, apply
  natural and logical consequences\, convene family meetings\, and develop 
 their child's confidence. Parents engage in role-plays\, exercises\, discu
 ssions of hypothetical parenting situations\, and the sharing of personal 
 experiences. \n\nTo register\, please go to the event STEP: Systematic Tra
 ining for Effective Parenting (Spanish) #1 on 1/11 and click 'Register Now
 '\n
X-WR-RELCALID:86e560ea6b5e49d21aecfbbdbbd4cf88
X-WR-TIMEZONE:America/New_York
BEGIN:VTIMEZONE
TZID:America/New_York
BEGIN:STANDARD
TZNAME:EST
DTSTART:20201101T020000
TZOFFSETFROM:-0400
TZOFFSETTO:-0500
RDATE:20211107T020000
END:STANDARD
BEGIN:DAYLIGHT
TZNAME:EDT
DTSTART:20200308T020000
TZOFFSETFROM:-0500
TZOFFSETTO:-0400
RDATE:20210314T020000
RDATE:20220313T020000
END:DAYLIGHT
END:VTIMEZONE
BEGIN:VEVENT
UID:b3d86a80-d842-465c-9a87-f22400088d32
DTSTAMP:20260420T201830Z
DESCRIPTION:STEP: Systematic Training for Effective Parenting - presented i
 n Spanish\n\nThis program is an interactive practical approach to parentin
 g and handling challenging behaviors. The program provides skills training
  for parents of children from 6 through 12 years of age. Using the STEP mu
 ltimedia kit our staff teaches lessons to parents on how to understand chi
 ld behavior and misbehavior\, practice positive listening\, give encourage
 ment (rather than praise)\, explore alternative parenting behaviors and ex
 press ideas and feelings\, develop their child's responsibilities\, apply 
 natural and logical consequences\, convene family meetings\, and develop t
 heir child's confidence. Parents engage in role-plays\, exercises\, discus
 sions of hypothetical parenting situations\, and the sharing of personal e
 xperiences. \n\nTo register\, please go to the event STEP: Systematic Trai
 ning for Effective Parenting (Spanish) #1 on 1/11 and click 'Register Now'
 \n
DTSTART;TZID=America/New_York:20210208T180000
DTEND;TZID=America/New_York:20210208T193000
LOCATION:Zoom Meeting\, link to follow
SUMMARY:STEP: Systematic Training for Effective Parenting (Spanish) #4 on M
 on from 1/18-2/22
END:VEVENT
END:VCALENDAR
