BEGIN:VCALENDAR
VERSION:2.0
PRODID:-//www.thechc.org//NONSGML kigkonsult.se iCalcreator 2.30.10//
CALSCALE:GREGORIAN
METHOD:PUBLISH
UID:987f7bae-9324-4c71-8731-b603e54db595
X-WR-CALDESC:We support the mission of the Pennsylvania Network of Student 
 Assistance Services\, which is to provide leadership for a safe and drug f
 ree environment and mental health wellness in schools and communities acro
 ss the commonwealth.  Completion of all competency-based activities will r
 esult in SAP K-12 Certification and receipt of 21 Act 48 hours. \n\nWhen: 
 (6 half-day trainings):\nMarch 17 - 8:30 am to 12:30 pm\nMarch 31 - 9 am t
 o 12:30 pm\nApril 12 - 12:00 pm to 3:00 pm\nApril 19 - 11 am to 2:30 pm\nA
 pril 21 - 12 noon to 3:30 pm\nApril 23 - 9 am to 12:30 pm\n\nClasses will 
 be held via Zoom - link will be sent after registration\n\n
X-WR-RELCALID:5f4188170f20e6803eb8245989a6d67f
X-WR-TIMEZONE:America/New_York
BEGIN:VTIMEZONE
TZID:America/New_York
BEGIN:STANDARD
TZNAME:EST
DTSTART:20201101T020000
TZOFFSETFROM:-0400
TZOFFSETTO:-0500
RDATE:20211107T020000
END:STANDARD
BEGIN:DAYLIGHT
TZNAME:EDT
DTSTART:20210314T020000
TZOFFSETFROM:-0500
TZOFFSETTO:-0400
RDATE:20220313T020000
END:DAYLIGHT
END:VTIMEZONE
BEGIN:VEVENT
UID:2520ae19-5cb1-40f3-beee-3d3200f836bb
DTSTAMP:20260422T033835Z
DESCRIPTION:We support the mission of the Pennsylvania Network of Student A
 ssistance Services\, which is to provide leadership for a safe and drug fr
 ee environment and mental health wellness in schools and communities acros
 s the commonwealth.  Completion of all competency-based activities will re
 sult in SAP K-12 Certification and receipt of 21 Act 48 hours. \n\nWhen: (
 6 half-day trainings):\nMarch 17 - 8:30 am to 12:30 pm\nMarch 31 - 9 am to
  12:30 pm\nApril 12 - 12:00 pm to 3:00 pm\nApril 19 - 11 am to 2:30 pm\nAp
 ril 21 - 12 noon to 3:30 pm\nApril 23 - 9 am to 12:30 pm\n\nClasses will b
 e held via Zoom - link will be sent after registration\n\n
DTSTART;TZID=America/New_York:20210317T000000
DTEND;TZID=America/New_York:20210423T235900
LOCATION:Zoom meeting\, link to follow
SUMMARY:Northampton County Schools Training - 6 Half-Day SAP Training
END:VEVENT
END:VCALENDAR
