BEGIN:VCALENDAR
VERSION:2.0
PRODID:-//www.thechc.org//NONSGML kigkonsult.se iCalcreator 2.30.10//
CALSCALE:GREGORIAN
METHOD:PUBLISH
UID:daa3e335-1cdd-4e00-97dc-3ecbdc9a6616
X-WR-CALDESC:We support the mission of the Pennsylvania Network of Student 
 Assistance Services\, which is to provide leadership for a safe and drug f
 ree environment and mental health wellness in schools and communities acro
 ss the commonwealth.  Completion of all competency-based activities will r
 esult in SAP K-12 Certification and receipt of 21 Act 48 hours. \n\nWhen: 
 (6 half-day trainings):\nMay 25- 9 am to 12:30 pm\nMay 27 - 9 am to 12:30 
 pm\nMay 28 - 9 am to 12:30 pm\nJune 1 - 9 am to 12:30 pm\nJune 3 - 9 am to
  12:30 pm\nJune 4 - 9 am to 12:30 pm\n\nClasses will be held via Zoom - li
 nk will be sent after registration\n\n
X-WR-RELCALID:505c15cfcf7e6697cfd1ef4886efdf81
X-WR-TIMEZONE:America/New_York
BEGIN:VTIMEZONE
TZID:America/New_York
BEGIN:STANDARD
TZNAME:EST
DTSTART:20201101T020000
TZOFFSETFROM:-0400
TZOFFSETTO:-0500
RDATE:20211107T020000
RDATE:20221106T020000
END:STANDARD
BEGIN:DAYLIGHT
TZNAME:EDT
DTSTART:20210314T020000
TZOFFSETFROM:-0500
TZOFFSETTO:-0400
RDATE:20220313T020000
END:DAYLIGHT
END:VTIMEZONE
BEGIN:VEVENT
UID:2fbd7a33-6fc3-457f-b5df-5bf8c739efff
DTSTAMP:20260422T000541Z
DESCRIPTION:We support the mission of the Pennsylvania Network of Student A
 ssistance Services\, which is to provide leadership for a safe and drug fr
 ee environment and mental health wellness in schools and communities acros
 s the commonwealth.  Completion of all competency-based activities will re
 sult in SAP K-12 Certification and receipt of 21 Act 48 hours. \n\nWhen: (
 6 half-day trainings):\nMay 25- 9 am to 12:30 pm\nMay 27 - 9 am to 12:30 p
 m\nMay 28 - 9 am to 12:30 pm\nJune 1 - 9 am to 12:30 pm\nJune 3 - 9 am to 
 12:30 pm\nJune 4 - 9 am to 12:30 pm\n\nClasses will be held via Zoom - lin
 k will be sent after registration\n\n
DTSTART;TZID=America/New_York:20210525T000000
DTEND;TZID=America/New_York:20210604T235900
LOCATION:Zoom meeting\, link to follow
SUMMARY:6 Half-Day SAP Training
END:VEVENT
END:VCALENDAR
