BEGIN:VCALENDAR
VERSION:2.0
PRODID:-//www.thechc.org//NONSGML kigkonsult.se iCalcreator 2.30.10//
CALSCALE:GREGORIAN
METHOD:PUBLISH
UID:617d80ac-9fb2-4b95-8be4-4d839c790033
X-WR-CALDESC:STEP: Teens Parenting\n\nThis program is an interactive practi
 cal approach to parenting and handling challenging behaviors. The program 
 provides skills training for parents of children from 6 through 12 years o
 f age. Using the STEP multimedia kit our staff teaches lessons to parents 
 on how to understand child behavior and misbehavior\, practice positive li
 stening\, give encouragement (rather than praise)\, explore alternative pa
 renting behaviors and express ideas and feelings\, develop their child's r
 esponsibilities\, apply natural and logical consequences\, convene family 
 meetings\, and develop their child's confidence. Parents engage in role-pl
 ays\, exercises\, discussions of hypothetical parenting situations\, and t
 he sharing of personal experiences. \n\nTo register\, go to the event on t
 he calendar on 5/18 titled 'STEP: Systemic Training for Effective Parentin
 g #1 on Tuesdays from 5/18-6/29' and click 'Register Here!'
X-WR-RELCALID:beb1e78de36a341cef22ceaf45f9ea92
X-WR-TIMEZONE:America/New_York
BEGIN:VTIMEZONE
TZID:America/New_York
BEGIN:STANDARD
TZNAME:EST
DTSTART:20201101T020000
TZOFFSETFROM:-0400
TZOFFSETTO:-0500
RDATE:20211107T020000
RDATE:20221106T020000
END:STANDARD
BEGIN:DAYLIGHT
TZNAME:EDT
DTSTART:20210314T020000
TZOFFSETFROM:-0500
TZOFFSETTO:-0400
RDATE:20220313T020000
END:DAYLIGHT
END:VTIMEZONE
BEGIN:VEVENT
UID:425e1a68-3c82-4a4b-b2ad-c1bc48ce1060
DTSTAMP:20260422T000623Z
DESCRIPTION:STEP: Teens Parenting\n\nThis program is an interactive practic
 al approach to parenting and handling challenging behaviors. The program p
 rovides skills training for parents of children from 6 through 12 years of
  age. Using the STEP multimedia kit our staff teaches lessons to parents o
 n how to understand child behavior and misbehavior\, practice positive lis
 tening\, give encouragement (rather than praise)\, explore alternative par
 enting behaviors and express ideas and feelings\, develop their child's re
 sponsibilities\, apply natural and logical consequences\, convene family m
 eetings\, and develop their child's confidence. Parents engage in role-pla
 ys\, exercises\, discussions of hypothetical parenting situations\, and th
 e sharing of personal experiences. \n\nTo register\, go to the event on th
 e calendar on 5/18 titled 'STEP: Systemic Training for Effective Parenting
  #1 on Tuesdays from 5/18-6/29' and click 'Register Here!'
DTSTART;TZID=America/New_York:20210608T180000
DTEND;TZID=America/New_York:20210608T193000
LOCATION:Zoom Meeting
SUMMARY:STEP: Systemic Training for Effective Parenting #4 on Tuesdays from
  5/18-6/29
END:VEVENT
END:VCALENDAR
