BEGIN:VCALENDAR
VERSION:2.0
PRODID:-//www.thechc.org//NONSGML kigkonsult.se iCalcreator 2.30.10//
CALSCALE:GREGORIAN
METHOD:PUBLISH
UID:e47342a1-6c2a-4b92-a3e9-b893d0b0fba0
X-WR-CALDESC:This training is based on the revised Standards and Competenci
 es re-issued by the Commonwealth of Pennsylvania’s Department of Education
  in 2012.  Completion of all competency-based activities\, including a pos
 t-training assignment\, results in SAP K-12 certification and receipt of 2
 1 Act 48 hours.\n\nWhen: (3-day training) August 24\, 25\, 26\, 2021\nTime
 : 8:00 AM - 3:30 PM\nWhere: 555 Union Boulevard\, Suite #7\, Allentown\, P
 A 18109\nParking: Rear of building\, enter under 'Auditorium' door\n\n
X-WR-RELCALID:0a7090ba1f7db9a52c9628eae3e5db54
X-WR-TIMEZONE:America/New_York
BEGIN:VTIMEZONE
TZID:America/New_York
BEGIN:STANDARD
TZNAME:EST
DTSTART:20201101T020000
TZOFFSETFROM:-0400
TZOFFSETTO:-0500
RDATE:20211107T020000
RDATE:20221106T020000
END:STANDARD
BEGIN:DAYLIGHT
TZNAME:EDT
DTSTART:20210314T020000
TZOFFSETFROM:-0500
TZOFFSETTO:-0400
RDATE:20220313T020000
END:DAYLIGHT
END:VTIMEZONE
BEGIN:VEVENT
UID:e0f1d789-e27d-4c04-ace6-3a948b8be95c
DTSTAMP:20260421T204239Z
DESCRIPTION:This training is based on the revised Standards and Competencie
 s re-issued by the Commonwealth of Pennsylvania’s Department of Education 
 in 2012.  Completion of all competency-based activities\, including a post
 -training assignment\, results in SAP K-12 certification and receipt of 21
  Act 48 hours.\n\nWhen: (3-day training) August 24\, 25\, 26\, 2021\nTime:
  8:00 AM - 3:30 PM\nWhere: 555 Union Boulevard\, Suite #7\, Allentown\, PA
  18109\nParking: Rear of building\, enter under 'Auditorium' door\n\n
DTSTART;TZID=America/New_York:20210824T000000
DTEND;TZID=America/New_York:20210824T235900
LOCATION:Center for Humanistic Change\, 555 Union Boulevard\, Suite #7\, Al
 lentown\, PA
SUMMARY:3-Day SAP Training
END:VEVENT
END:VCALENDAR
