BEGIN:VCALENDAR
VERSION:2.0
PRODID:-//www.thechc.org//NONSGML kigkonsult.se iCalcreator 2.30.10//
CALSCALE:GREGORIAN
METHOD:PUBLISH
UID:20115820-67f4-43a3-bbe2-62f321fa5f37
X-WR-CALDESC:\n\n
X-WR-RELCALID:a5a5999d517acacb323be6ae2c648af0
X-WR-TIMEZONE:America/New_York
BEGIN:VTIMEZONE
TZID:America/New_York
BEGIN:STANDARD
TZNAME:EST
DTSTART:20201101T020000
TZOFFSETFROM:-0400
TZOFFSETTO:-0500
RDATE:20211107T020000
RDATE:20221106T020000
END:STANDARD
BEGIN:DAYLIGHT
TZNAME:EDT
DTSTART:20210314T020000
TZOFFSETFROM:-0500
TZOFFSETTO:-0400
RDATE:20220313T020000
RDATE:20230312T020000
END:DAYLIGHT
END:VTIMEZONE
BEGIN:VEVENT
UID:1789a04b-9069-4ef5-8869-17fa73da5181
DTSTAMP:20260421T185119Z
DESCRIPTION:\n\n
DTSTART;TZID=America/New_York:20210914T080000
DTEND;TZID=America/New_York:20210914T140000
LOCATION:
SUMMARY:Opioid Addiction & Recovery Forum-Lehigh County
END:VEVENT
END:VCALENDAR
