BEGIN:VCALENDAR
VERSION:2.0
PRODID:-//www.thechc.org//NONSGML kigkonsult.se iCalcreator 2.30.10//
CALSCALE:GREGORIAN
METHOD:PUBLISH
UID:ece49636-0955-498e-a4c5-98057c9bcc13
X-WR-CALDESC:The goal is increase the awareness of the opioid epidemic\, an
 d how these drugs can affect one’s health\, relationships and personal lif
 e during changing and challenging times.
X-WR-RELCALID:7aa23394e01352442e826343c992b997
X-WR-TIMEZONE:America/New_York
BEGIN:VTIMEZONE
TZID:America/New_York
BEGIN:STANDARD
TZNAME:EST
DTSTART:20201101T020000
TZOFFSETFROM:-0400
TZOFFSETTO:-0500
RDATE:20211107T020000
RDATE:20221106T020000
END:STANDARD
BEGIN:DAYLIGHT
TZNAME:EDT
DTSTART:20210314T020000
TZOFFSETFROM:-0500
TZOFFSETTO:-0400
RDATE:20220313T020000
RDATE:20230312T020000
END:DAYLIGHT
END:VTIMEZONE
BEGIN:VEVENT
UID:68870259-fcc2-4457-9e25-9c87408a6e3e
DTSTAMP:20260420T195559Z
DESCRIPTION:The goal is increase the awareness of the opioid epidemic\, and
  how these drugs can affect one’s health\, relationships and personal life
  during changing and challenging times.
DTSTART;TZID=America/New_York:20210923T080000
DTEND;TZID=America/New_York:20210923T140000
LOCATION:
SUMMARY:Opioid Addiction & Recovery Forum-Northampton County
END:VEVENT
END:VCALENDAR
