BEGIN:VCALENDAR
VERSION:2.0
PRODID:-//www.thechc.org//NONSGML kigkonsult.se iCalcreator 2.30.10//
CALSCALE:GREGORIAN
METHOD:PUBLISH
UID:4b0d47bd-7c35-466d-960f-0323236ee0a3
X-WR-CALDESC:We support the mission of the Pennsylvania Network of Student 
 Assistance Services\, which is to provide leadership for a safe and drug f
 ree environment and mental health wellness in schools and communities acro
 ss the commonwealth.  Completion of all competency-based activities will r
 esult in SAP K-12 Certification and receipt of 21 Act 48 hours. \n\nWhen: 
 (6 half-day trainings):\nOctober 4- 8:30 am to 12:00 noon\nOctober 6 - 8:3
 0 am to 12:00 noon\nOctober 12 - 8:30 am to 12:00 noon\nOctober 14 - 8:30 
 am to 12:00 noon\nOctober 18 - 8:30 am to 12:00 noon\nOctober 20 - 8:30 am
  to 12:00 noon\n\nClasses will be held via Zoom - link will be sent after 
 registration\n\n
X-WR-RELCALID:96e8e51a3a14216b981d15f74678a400
X-WR-TIMEZONE:America/New_York
BEGIN:VTIMEZONE
TZID:America/New_York
BEGIN:STANDARD
TZNAME:EST
DTSTART:20201101T020000
TZOFFSETFROM:-0400
TZOFFSETTO:-0500
RDATE:20211107T020000
RDATE:20221106T020000
END:STANDARD
BEGIN:DAYLIGHT
TZNAME:EDT
DTSTART:20210314T020000
TZOFFSETFROM:-0500
TZOFFSETTO:-0400
RDATE:20220313T020000
RDATE:20230312T020000
END:DAYLIGHT
END:VTIMEZONE
BEGIN:VEVENT
UID:17ae76b3-ffa9-4ba8-8876-764b2d3619a3
DTSTAMP:20260421T171602Z
DESCRIPTION:We support the mission of the Pennsylvania Network of Student A
 ssistance Services\, which is to provide leadership for a safe and drug fr
 ee environment and mental health wellness in schools and communities acros
 s the commonwealth.  Completion of all competency-based activities will re
 sult in SAP K-12 Certification and receipt of 21 Act 48 hours. \n\nWhen: (
 6 half-day trainings):\nOctober 4- 8:30 am to 12:00 noon\nOctober 6 - 8:30
  am to 12:00 noon\nOctober 12 - 8:30 am to 12:00 noon\nOctober 14 - 8:30 a
 m to 12:00 noon\nOctober 18 - 8:30 am to 12:00 noon\nOctober 20 - 8:30 am 
 to 12:00 noon\n\nClasses will be held via Zoom - link will be sent after r
 egistration\n\n
DTSTART;TZID=America/New_York:20211004T083000
DTEND;TZID=America/New_York:20211004T120000
LOCATION:Zoom meeting\, link to follow
SUMMARY:6 Half-Day SAP Training
END:VEVENT
END:VCALENDAR
