BEGIN:VCALENDAR
VERSION:2.0
PRODID:-//www.thechc.org//NONSGML kigkonsult.se iCalcreator 2.30.10//
CALSCALE:GREGORIAN
METHOD:PUBLISH
UID:5ed3e6db-9812-405e-bf06-06c2abec1b71
X-WR-CALDESC:
X-WR-RELCALID:f319aa550364c229b20acadc6f8c0731
X-WR-TIMEZONE:America/New_York
BEGIN:VTIMEZONE
TZID:America/New_York
BEGIN:STANDARD
TZNAME:EST
DTSTART:20231105T020000
TZOFFSETFROM:-0400
TZOFFSETTO:-0500
RDATE:20241103T020000
END:STANDARD
BEGIN:DAYLIGHT
TZNAME:EDT
DTSTART:20240310T020000
TZOFFSETFROM:-0500
TZOFFSETTO:-0400
RDATE:20250309T020000
END:DAYLIGHT
END:VTIMEZONE
BEGIN:VEVENT
UID:32323651-2e20-4c2b-8e32-523445ec5e32
DTSTAMP:20260421T061246Z
DESCRIPTION:
DTSTART;TZID=America/New_York:20240313T130000
DTEND;TZID=America/New_York:20240313T150000
LOCATION:Zoom meeting\, link to follow
SUMMARY:2024 Spring SAP Consortium
END:VEVENT
END:VCALENDAR
