BEGIN:VCALENDAR
VERSION:2.0
PRODID:-//www.thechc.org//NONSGML kigkonsult.se iCalcreator 2.30.10//
CALSCALE:GREGORIAN
METHOD:PUBLISH
UID:88d50976-3435-4842-bbe7-7415eadbe27e
X-WR-CALDESC:7 weekly sessions of dinner\, fun and family activities to sup
 port positive family relationships. (This class was originally scheduled t
 o begin 4/4/24.)
X-WR-RELCALID:89040517d2744cbaecfb2315ff0cfa65
X-WR-TIMEZONE:America/New_York
BEGIN:VTIMEZONE
TZID:America/New_York
BEGIN:STANDARD
TZNAME:EST
DTSTART:20231105T020000
TZOFFSETFROM:-0400
TZOFFSETTO:-0500
RDATE:20241103T020000
END:STANDARD
BEGIN:DAYLIGHT
TZNAME:EDT
DTSTART:20240310T020000
TZOFFSETFROM:-0500
TZOFFSETTO:-0400
RDATE:20250309T020000
END:DAYLIGHT
END:VTIMEZONE
BEGIN:VEVENT
UID:f107bd2c-1d51-490f-8c3e-85a86ed02328
DTSTAMP:20260421T040521Z
DESCRIPTION:7 weekly sessions of dinner\, fun and family activities to supp
 ort positive family relationships. (This class was originally scheduled to
  begin 4/4/24.)
DTSTART;TZID=America/New_York:20240411T173000
DTEND;TZID=America/New_York:20240411T203000
LOCATION:1213 W. Chew St.\, Allentown\, PA 18102 US
SUMMARY:Familias Fuertes
END:VEVENT
END:VCALENDAR
