BEGIN:VCALENDAR
VERSION:2.0
PRODID:-//www.thechc.org//NONSGML kigkonsult.se iCalcreator 2.30.10//
CALSCALE:GREGORIAN
METHOD:PUBLISH
UID:4007732c-2065-4639-b35b-2ba8865f4e9c
X-WR-CALDESC:Annual CHC Spring Golf Open\nRegister here online at the link 
 above\, or download and mail/email the registration form to CHC.
X-WR-RELCALID:4cf922c66867358b6c7a08c3f3f9518b
X-WR-TIMEZONE:America/New_York
BEGIN:VTIMEZONE
TZID:America/New_York
BEGIN:STANDARD
TZNAME:EST
DTSTART:20231105T020000
TZOFFSETFROM:-0400
TZOFFSETTO:-0500
RDATE:20241103T020000
RDATE:20251102T020000
END:STANDARD
BEGIN:DAYLIGHT
TZNAME:EDT
DTSTART:20240310T020000
TZOFFSETFROM:-0500
TZOFFSETTO:-0400
RDATE:20250309T020000
END:DAYLIGHT
END:VTIMEZONE
BEGIN:VEVENT
UID:ffbe3829-859c-4137-a5d5-f76121182a14
DTSTAMP:20260421T020511Z
DESCRIPTION:Annual CHC Spring Golf Open\nRegister here online at the link a
 bove\, or download and mail/email the registration form to CHC.
DTSTART;TZID=America/New_York:20240506T060000
DTEND;TZID=America/New_York:20240506T060001
LOCATION:3604 Farmersville Road \, Bethlehem\, PA 18020 US
SUMMARY:Annual CHC Spring Golf Open
END:VEVENT
END:VCALENDAR
