BEGIN:VCALENDAR
VERSION:2.0
PRODID:-//www.thechc.org//NONSGML kigkonsult.se iCalcreator 2.30.10//
CALSCALE:GREGORIAN
METHOD:PUBLISH
UID:6a51395f-1ee2-48b7-94d8-bcc7f897dbca
X-WR-CALDESC:
X-WR-RELCALID:fd8a9964522c7927784a53c64b7420e2
X-WR-TIMEZONE:America/New_York
BEGIN:VTIMEZONE
TZID:America/New_York
BEGIN:STANDARD
TZNAME:EST
DTSTART:20231105T020000
TZOFFSETFROM:-0400
TZOFFSETTO:-0500
RDATE:20241103T020000
RDATE:20251102T020000
END:STANDARD
BEGIN:DAYLIGHT
TZNAME:EDT
DTSTART:20240310T020000
TZOFFSETFROM:-0500
TZOFFSETTO:-0400
RDATE:20250309T020000
RDATE:20260308T020000
END:DAYLIGHT
END:VTIMEZONE
BEGIN:VEVENT
UID:1d51cb99-97a0-47a4-8260-83d9b040c59d
DTSTAMP:20260420T185050Z
DESCRIPTION:
DTSTART;TZID=America/New_York:20240918T080000
DTEND;TZID=America/New_York:20240918T110000
LOCATION:https://us02web.zoom.us/j/88971654512
SUMMARY:FASD Awareness Program
END:VEVENT
END:VCALENDAR
