BEGIN:VCALENDAR
VERSION:2.0
PRODID:-//www.thechc.org//NONSGML kigkonsult.se iCalcreator 2.30.10//
CALSCALE:GREGORIAN
METHOD:PUBLISH
UID:925b0601-74eb-4dd9-8393-7d1732d5d826
X-WR-CALDESC:Anger Management\n\nAnger is an emotion with which most people
  are familiar. What many may not realize is that anger is often used as a 
 way to avoid dealing with uncomfortable feelings\, such as fear or sadness
 . CHC’s Anger Management program helps participants recognize and understa
 nd underlying reasons for their anger\, as well as identify triggers and w
 arning signs. Additionally\, attendees learn the role of anger in alcohol 
 and drug addiction and practical\, peaceful techniques for controlling rea
 ctions to challenges and managing stress.\n\nTo register\, please click 'R
 egister Now'.  PLEASE NOTE: THIS CLASS IS SUBJECT TO CANCELLATION IF THE  
 MINIMUM REGISTRATION OF 5 PEOPLE IS NOT MET.  IF THIS OCCURS\, YOU WILL BE
  NOTIFIED IN ADVANCE WITH THE OPTION TO RESCHEDULE FOR A FUTURE CLASS.
X-WR-RELCALID:941eef659796883e50f207925ecfdf9a
X-WR-TIMEZONE:America/New_York
BEGIN:VTIMEZONE
TZID:America/New_York
BEGIN:STANDARD
TZNAME:EST
DTSTART:20231105T020000
TZOFFSETFROM:-0400
TZOFFSETTO:-0500
RDATE:20241103T020000
RDATE:20251102T020000
END:STANDARD
BEGIN:DAYLIGHT
TZNAME:EDT
DTSTART:20240310T020000
TZOFFSETFROM:-0500
TZOFFSETTO:-0400
RDATE:20250309T020000
RDATE:20260308T020000
END:DAYLIGHT
END:VTIMEZONE
BEGIN:VEVENT
UID:a3c0eb64-2124-4f56-a2a1-80210de6148d
DTSTAMP:20260420T165053Z
DESCRIPTION:Anger Management\n\nAnger is an emotion with which most people 
 are familiar. What many may not realize is that anger is often used as a w
 ay to avoid dealing with uncomfortable feelings\, such as fear or sadness.
  CHC’s Anger Management program helps participants recognize and understan
 d underlying reasons for their anger\, as well as identify triggers and wa
 rning signs. Additionally\, attendees learn the role of anger in alcohol a
 nd drug addiction and practical\, peaceful techniques for controlling reac
 tions to challenges and managing stress.\n\nTo register\, please click 'Re
 gister Now'.  PLEASE NOTE: THIS CLASS IS SUBJECT TO CANCELLATION IF THE  M
 INIMUM REGISTRATION OF 5 PEOPLE IS NOT MET.  IF THIS OCCURS\, YOU WILL BE 
 NOTIFIED IN ADVANCE WITH THE OPTION TO RESCHEDULE FOR A FUTURE CLASS.
DTSTART;TZID=America/New_York:20241005T090000
DTEND;TZID=America/New_York:20241005T120000
LOCATION:Zoom Meeting
SUMMARY:CANCELLED - Anger Management Class Registration - 10/5-10/26
END:VEVENT
END:VCALENDAR
