BEGIN:VCALENDAR
VERSION:2.0
PRODID:-//www.thechc.org//NONSGML kigkonsult.se iCalcreator 2.30.10//
CALSCALE:GREGORIAN
METHOD:PUBLISH
UID:a2c4b558-043b-4f85-a2f8-b7e66cb923fa
X-WR-CALDESC:Please join us for virtual discussion with Jessica Taylor\, LP
 C\, on 'Eating Disorders\, What are they and what do we do?'
X-WR-RELCALID:d14aa8fd6ea2375107cd47569ae3cd37
X-WR-TIMEZONE:America/New_York
BEGIN:VTIMEZONE
TZID:America/New_York
BEGIN:STANDARD
TZNAME:EST
DTSTART:20231105T020000
TZOFFSETFROM:-0400
TZOFFSETTO:-0500
RDATE:20241103T020000
RDATE:20251102T020000
END:STANDARD
BEGIN:DAYLIGHT
TZNAME:EDT
DTSTART:20240310T020000
TZOFFSETFROM:-0500
TZOFFSETTO:-0400
RDATE:20250309T020000
RDATE:20260308T020000
END:DAYLIGHT
END:VTIMEZONE
BEGIN:VEVENT
UID:1c3fb241-35bb-4861-8adc-cfcacb688d43
DTSTAMP:20260420T162904Z
DESCRIPTION:Please join us for virtual discussion with Jessica Taylor\, LPC
 \, on 'Eating Disorders\, What are they and what do we do?'
DTSTART;TZID=America/New_York:20241021T130000
DTEND;TZID=America/New_York:20241021T140000
LOCATION:555 Union Blvd\, Suite 7\, Allentown\, PA 18109 US
SUMMARY:Northampton Co. SAP Virtual Network Meeting
END:VEVENT
END:VCALENDAR
