BEGIN:VCALENDAR
VERSION:2.0
PRODID:-//www.thechc.org//NONSGML kigkonsult.se iCalcreator 2.30.10//
CALSCALE:GREGORIAN
METHOD:PUBLISH
UID:27164f0c-932b-42ad-af08-91c90008dab1
X-WR-CALDESC:
X-WR-RELCALID:ca94b045c69437ebf59acbae18c43222
X-WR-TIMEZONE:America/New_York
BEGIN:VTIMEZONE
TZID:America/New_York
BEGIN:STANDARD
TZNAME:EST
DTSTART:20241103T020000
TZOFFSETFROM:-0400
TZOFFSETTO:-0500
RDATE:20251102T020000
END:STANDARD
BEGIN:DAYLIGHT
TZNAME:EDT
DTSTART:20240310T020000
TZOFFSETFROM:-0500
TZOFFSETTO:-0400
RDATE:20250309T020000
RDATE:20260308T020000
END:DAYLIGHT
END:VTIMEZONE
BEGIN:VEVENT
UID:3124c6ca-34d6-4ceb-8f45-4a969c1ea9d8
DTSTAMP:20260420T152854Z
DESCRIPTION:
DTSTART;TZID=America/New_York:20241128T080000
DTEND;TZID=America/New_York:20241128T170000
LOCATION:555 Union Blvd\, Suite 7\, Allentown\, PA 18109 US
SUMMARY:CHC office closed for holiday
END:VEVENT
END:VCALENDAR
