BEGIN:VCALENDAR
VERSION:2.0
PRODID:-//www.thechc.org//NONSGML kigkonsult.se iCalcreator 2.30.10//
CALSCALE:GREGORIAN
METHOD:PUBLISH
UID:ffaebcf4-ee76-43d0-ab3f-e98556fa0141
X-WR-CALDESC:
X-WR-RELCALID:d067a620cd4f22e4491154231d4105c0
X-WR-TIMEZONE:America/New_York
BEGIN:VTIMEZONE
TZID:America/New_York
BEGIN:STANDARD
TZNAME:EST
DTSTART:20241103T020000
TZOFFSETFROM:-0400
TZOFFSETTO:-0500
RDATE:20251102T020000
END:STANDARD
BEGIN:DAYLIGHT
TZNAME:EDT
DTSTART:20240310T020000
TZOFFSETFROM:-0500
TZOFFSETTO:-0400
RDATE:20250309T020000
RDATE:20260308T020000
END:DAYLIGHT
END:VTIMEZONE
BEGIN:VEVENT
UID:02b3af70-f589-459a-987b-8441700942e0
DTSTAMP:20260420T152854Z
DESCRIPTION:
DTSTART;TZID=America/New_York:20241129T080000
DTEND;TZID=America/New_York:20241129T170000
LOCATION:555 Union Blvd\, Suite 7\, Allentown\, PA 18109 US
SUMMARY:CHC office closed for holiday
END:VEVENT
END:VCALENDAR
