BEGIN:VCALENDAR
VERSION:2.0
PRODID:-//www.thechc.org//NONSGML kigkonsult.se iCalcreator 2.30.10//
CALSCALE:GREGORIAN
METHOD:PUBLISH
UID:81decc74-645e-4dd1-8e74-08140ad64b4e
X-WR-CALDESC:
X-WR-RELCALID:9cae02553d141b12484ebda162bbfd5d
X-WR-TIMEZONE:America/New_York
BEGIN:VTIMEZONE
TZID:America/New_York
BEGIN:STANDARD
TZNAME:EST
DTSTART:20241103T020000
TZOFFSETFROM:-0400
TZOFFSETTO:-0500
RDATE:20251102T020000
END:STANDARD
BEGIN:DAYLIGHT
TZNAME:EDT
DTSTART:20240310T020000
TZOFFSETFROM:-0500
TZOFFSETTO:-0400
RDATE:20250309T020000
RDATE:20260308T020000
END:DAYLIGHT
END:VTIMEZONE
BEGIN:VEVENT
UID:830d247c-924e-40f3-9cea-c9c49a2f88a6
DTSTAMP:20260420T115850Z
DESCRIPTION:
DTSTART;TZID=America/New_York:20250120T080000
DTEND;TZID=America/New_York:20250120T170000
LOCATION:555 Union Blvd\, Suite 7\, Allentown\, PA 18109 US
SUMMARY:CHC office closed for Martin Luther King Jr. day
END:VEVENT
END:VCALENDAR
