BEGIN:VCALENDAR
VERSION:2.0
PRODID:-//www.thechc.org//NONSGML kigkonsult.se iCalcreator 2.30.10//
CALSCALE:GREGORIAN
METHOD:PUBLISH
UID:81d6e392-b928-4c56-84dc-535e326f2ba4
X-WR-CALDESC:
X-WR-RELCALID:031c36b086d80381f29a64287c9e0f7c
X-WR-TIMEZONE:America/New_York
BEGIN:VTIMEZONE
TZID:America/New_York
BEGIN:STANDARD
TZNAME:EST
DTSTART:20251102T020000
TZOFFSETFROM:-0400
TZOFFSETTO:-0500
RDATE:20261101T020000
END:STANDARD
BEGIN:DAYLIGHT
TZNAME:EDT
DTSTART:20250309T020000
TZOFFSETFROM:-0500
TZOFFSETTO:-0400
RDATE:20260308T020000
RDATE:20270314T020000
END:DAYLIGHT
END:VTIMEZONE
BEGIN:VEVENT
UID:dd8a5dd1-4074-4c02-b9df-4ecf49b9571b
DTSTAMP:20260421T110124Z
DESCRIPTION:
DTSTART;TZID=America/New_York:20251225T080000
DTEND;TZID=America/New_York:20251225T160000
LOCATION:3400 Bath Pike\, Bethlehem \, PA 18017 US
SUMMARY:CHC Office Closed for Christmas
END:VEVENT
END:VCALENDAR
