BEGIN:VCALENDAR
VERSION:2.0
PRODID:-//www.thechc.org//NONSGML kigkonsult.se iCalcreator 2.30.10//
CALSCALE:GREGORIAN
METHOD:PUBLISH
UID:3e56c4c3-da06-432e-937a-4ea5cb1d01cb
X-WR-CALDESC:Join the fun and friendly competition for a worthy cause at th
 e 3rd Annual Spring Golf Open\, benefiting the Center for Humanistic Chang
 e's programs and services. The tournament will be held at Green Pond Count
 ry Club on May 4\, 2026. It includes 18 holes of golf with a cart\, a ligh
 t lunch\, a hot buffet dinner with beverages\, contest prizes\, and a prem
 ium raffle.\n\nYou can register online\, or if you prefer to mail in your 
 registration with a check\, download the brochure with the registration fo
 rm or the one-page registration form using the links below. For event deta
 ils\, you can also download the flyer. Commitments are due by April 15\, 2
 026.\n
X-WR-RELCALID:082b8e2e9a5d909fd4be15b160856b02
X-WR-TIMEZONE:America/New_York
BEGIN:VTIMEZONE
TZID:America/New_York
BEGIN:STANDARD
TZNAME:EST
DTSTART:20251102T020000
TZOFFSETFROM:-0400
TZOFFSETTO:-0500
RDATE:20261101T020000
END:STANDARD
BEGIN:DAYLIGHT
TZNAME:EDT
DTSTART:20260308T020000
TZOFFSETFROM:-0500
TZOFFSETTO:-0400
RDATE:20270314T020000
END:DAYLIGHT
END:VTIMEZONE
BEGIN:VEVENT
UID:67d17b70-7775-4425-b0e7-239d4d4830e8
DTSTAMP:20260420T083145Z
DESCRIPTION:Join the fun and friendly competition for a worthy cause at the
  3rd Annual Spring Golf Open\, benefiting the Center for Humanistic Change
 's programs and services. The tournament will be held at Green Pond Countr
 y Club on May 4\, 2026. It includes 18 holes of golf with a cart\, a light
  lunch\, a hot buffet dinner with beverages\, contest prizes\, and a premi
 um raffle.\n\nYou can register online\, or if you prefer to mail in your r
 egistration with a check\, download the brochure with the registration for
 m or the one-page registration form using the links below. For event detai
 ls\, you can also download the flyer. Commitments are due by April 15\, 20
 26.\n
DTSTART;TZID=America/New_York:20260504T100000
DTEND;TZID=America/New_York:20260504T180000
LOCATION:Green Pond Country Club\, 3604 Farmersville Road\, Bethlehem\, PA 
 18020 US
SUMMARY:3rd Annual Spring Golf Open
END:VEVENT
END:VCALENDAR
