BEGIN:VCALENDAR
VERSION:2.0
PRODID:-//www.thechc.org//NONSGML kigkonsult.se iCalcreator 2.30.10//
CALSCALE:GREGORIAN
METHOD:PUBLISH
UID:49da3e13-0893-4af1-96c8-2e6970f6817b
X-WR-CALDESC:
X-WR-RELCALID:33ac0d0d00d3fa46cbe9862371a71694
X-WR-TIMEZONE:America/New_York
BEGIN:VTIMEZONE
TZID:America/New_York
BEGIN:STANDARD
TZNAME:EST
DTSTART:20251102T020000
TZOFFSETFROM:-0400
TZOFFSETTO:-0500
RDATE:20261101T020000
RDATE:20271107T020000
END:STANDARD
BEGIN:DAYLIGHT
TZNAME:EDT
DTSTART:20260308T020000
TZOFFSETFROM:-0500
TZOFFSETTO:-0400
RDATE:20270314T020000
END:DAYLIGHT
END:VTIMEZONE
BEGIN:VEVENT
UID:384125c1-822f-433c-83a3-1cc3715eb7a8
DTSTAMP:20260420T082304Z
DESCRIPTION:
DTSTART;TZID=America/New_York:20260619T080000
DTEND;TZID=America/New_York:20260619T160000
LOCATION:3400 Bath Pike\, Bethlehem \, PA 18017 US
SUMMARY:CHC Office Closed for Juneteenth
END:VEVENT
END:VCALENDAR
